BEGIN:VCALENDAR
VERSION:2.0
PRODID:-//Heartland Intergroup, Inc. - ECPv6.15.20//NONSGML v1.0//EN
CALSCALE:GREGORIAN
METHOD:PUBLISH
X-WR-CALNAME:Heartland Intergroup, Inc.
X-ORIGINAL-URL:https://www.heartlandintergroup.org
X-WR-CALDESC:Events for Heartland Intergroup, Inc.
REFRESH-INTERVAL;VALUE=DURATION:PT1H
X-Robots-Tag:noindex
X-PUBLISHED-TTL:PT1H
BEGIN:VTIMEZONE
TZID:America/New_York
BEGIN:DAYLIGHT
TZOFFSETFROM:-0500
TZOFFSETTO:-0400
TZNAME:EDT
DTSTART:20240310T070000
END:DAYLIGHT
BEGIN:STANDARD
TZOFFSETFROM:-0400
TZOFFSETTO:-0500
TZNAME:EST
DTSTART:20241103T060000
END:STANDARD
BEGIN:DAYLIGHT
TZOFFSETFROM:-0500
TZOFFSETTO:-0400
TZNAME:EDT
DTSTART:20250309T070000
END:DAYLIGHT
BEGIN:STANDARD
TZOFFSETFROM:-0400
TZOFFSETTO:-0500
TZNAME:EST
DTSTART:20251102T060000
END:STANDARD
BEGIN:DAYLIGHT
TZOFFSETFROM:-0500
TZOFFSETTO:-0400
TZNAME:EDT
DTSTART:20260308T070000
END:DAYLIGHT
BEGIN:STANDARD
TZOFFSETFROM:-0400
TZOFFSETTO:-0500
TZNAME:EST
DTSTART:20261101T060000
END:STANDARD
END:VTIMEZONE
BEGIN:VEVENT
DTSTART;TZID=America/New_York:20251031T193000
DTEND;TZID=America/New_York:20251031T233000
DTSTAMP:20260425T160825
CREATED:20251011T070418Z
LAST-MODIFIED:20260111T215118Z
UID:4411-1761939000-1761953400@www.heartlandintergroup.org
SUMMARY:Friday Family Fun Night - Halloween Party 2025
DESCRIPTION:Games  –  Music  –  Dancing  –  Food\nCostume Contest for Adults and Kids!
URL:https://www.heartlandintergroup.org/event/friday-family-fun-night-halloween-party-2025/
LOCATION:Asbury United Methodist Church\, 745 E. Main Street\, Bartow\, FL\, 33830\, United States
CATEGORIES:Parties
ATTACH;FMTTYPE=image/jpeg:https://www.heartlandintergroup.org/wp-content/uploads/2025/10/IMG_3334.jpeg
END:VEVENT
END:VCALENDAR