BEGIN:VCALENDAR
VERSION:2.0
PRODID:-//Heartland Intergroup, Inc. - ECPv6.15.20//NONSGML v1.0//EN
CALSCALE:GREGORIAN
METHOD:PUBLISH
X-ORIGINAL-URL:https://www.heartlandintergroup.org
X-WR-CALDESC:Events for Heartland Intergroup, Inc.
REFRESH-INTERVAL;VALUE=DURATION:PT1H
X-Robots-Tag:noindex
X-PUBLISHED-TTL:PT1H
BEGIN:VTIMEZONE
TZID:America/New_York
BEGIN:DAYLIGHT
TZOFFSETFROM:-0500
TZOFFSETTO:-0400
TZNAME:EDT
DTSTART:20250309T070000
END:DAYLIGHT
BEGIN:STANDARD
TZOFFSETFROM:-0400
TZOFFSETTO:-0500
TZNAME:EST
DTSTART:20251102T060000
END:STANDARD
BEGIN:DAYLIGHT
TZOFFSETFROM:-0500
TZOFFSETTO:-0400
TZNAME:EDT
DTSTART:20260308T070000
END:DAYLIGHT
BEGIN:STANDARD
TZOFFSETFROM:-0400
TZOFFSETTO:-0500
TZNAME:EST
DTSTART:20261101T060000
END:STANDARD
BEGIN:DAYLIGHT
TZOFFSETFROM:-0500
TZOFFSETTO:-0400
TZNAME:EDT
DTSTART:20270314T070000
END:DAYLIGHT
BEGIN:STANDARD
TZOFFSETFROM:-0400
TZOFFSETTO:-0500
TZNAME:EST
DTSTART:20271107T060000
END:STANDARD
END:VTIMEZONE
BEGIN:VEVENT
DTSTART;TZID=America/New_York:20260313T140000
DTEND;TZID=America/New_York:20260315T100000
DTSTAMP:20260425T233251
CREATED:20260102T185354Z
LAST-MODIFIED:20260111T215000Z
UID:6722-1773410400-1773568800@www.heartlandintergroup.org
SUMMARY:Soberstock 2026
DESCRIPTION:Soberstock is a 3 day annual AA festival held in Florida\, with camping\, live music\, AA speakers\, food\, fellowship\, and fun. The campground is located just northwest of Tampa\, and can accomodate ~2000 people comfortably. For more info\, click here \nSoberstock is NOT FOR PROFIT. In fact\, we are a registered AA group with GSO in New York. We pass the basket in our committee meetings\, and make an annual contribution to our local Intergroup Office and the “Pie Chart”. A percentage of our money goes to buy AA literature for Jails and Institutions in Hillsborough County. In addition to carrying the message to alcoholics and their families\, our mission is to show the newcomer that they can have fun in sobriety.
URL:https://www.heartlandintergroup.org/event/soberstock-2026/
LOCATION:Sand Hill Scout Reservation\, 11210 Cortez Blvd\, FL\,\, Brooksville\, FL\, 34613\, United States
CATEGORIES:Camping,Food,Meetings,Music,Speakers
ATTACH;FMTTYPE=image/webp:https://www.heartlandintergroup.org/wp-content/uploads/2026/01/2026PrintFromWebFlyer2.webp
END:VEVENT
BEGIN:VEVENT
DTSTART;TZID=America/New_York:20260413T180000
DTEND;TZID=America/New_York:20260413T190000
DTSTAMP:20260425T233251
CREATED:20251205T202441Z
LAST-MODIFIED:20260202T203759Z
UID:5831-1776103200-1776106800@www.heartlandintergroup.org
SUMMARY:Heartland Intergroup Monthly Representative Meeting
DESCRIPTION:Curious How Heartland Intergroup Works?\nCome and visit us during our Monthly Rep meeting\non the second Monday of each month at 6PM via Zoom or In-person at:\n1643 Williamsburg Square\nSuite 103\nLakeland\, FL 33803.\nFor information and after 5:00PM access code\, call us on 863-688-0211.\nZoom Meeting ID: 232 358 042\nNo password is needed. The Host will let you in.\nJoin Zoom
URL:https://www.heartlandintergroup.org/event/heartland-intergroup-monthly-representative-meeting-5/
LOCATION:Heartland Intergroup Office\, 1643 Williamsburg Square\, Suite 103\, Lakeland\, FL\, 33803\, United States
CATEGORIES:Heartland Intergroup,Meetings
ATTACH;FMTTYPE=image/webp:https://www.heartlandintergroup.org/wp-content/uploads/2025/12/Screenshot-2026-02-02-at-3.34.45-PM.webp
ORGANIZER;CN="Heartland Intergroup":MAILTO:officemanager@heartlandintergroup.org
END:VEVENT
BEGIN:VEVENT
DTSTART;TZID=America/New_York:20260511T180000
DTEND;TZID=America/New_York:20260511T190000
DTSTAMP:20260425T233251
CREATED:20251205T202515Z
LAST-MODIFIED:20260202T203728Z
UID:5833-1778522400-1778526000@www.heartlandintergroup.org
SUMMARY:Heartland Intergroup Monthly Representative Meeting
DESCRIPTION:Curious How Heartland Intergroup Works?\nCome and visit us during our Monthly Rep meeting\non the second Monday of each month at 6PM via Zoom or In-person at:\n1643 Williamsburg Square\nSuite 103\nLakeland\, FL 33803.\nFor information and after 5:00PM access code\, call us on 863-688-0211.\nZoom Meeting ID: 232 358 042\nNo password is needed. The Host will let you in.\nJoin Zoom
URL:https://www.heartlandintergroup.org/event/heartland-intergroup-monthly-representative-meeting-6/
LOCATION:Heartland Intergroup Office\, 1643 Williamsburg Square\, Suite 103\, Lakeland\, FL\, 33803\, United States
CATEGORIES:Heartland Intergroup,Meetings
ATTACH;FMTTYPE=image/webp:https://www.heartlandintergroup.org/wp-content/uploads/2025/12/Screenshot-2026-02-02-at-3.34.45-PM.webp
ORGANIZER;CN="Heartland Intergroup":MAILTO:officemanager@heartlandintergroup.org
END:VEVENT
BEGIN:VEVENT
DTSTART;TZID=America/New_York:20260608T180000
DTEND;TZID=America/New_York:20260608T190000
DTSTAMP:20260425T233251
CREATED:20251205T202551Z
LAST-MODIFIED:20260202T203654Z
UID:5835-1780941600-1780945200@www.heartlandintergroup.org
SUMMARY:Heartland Intergroup Monthly Representative Meeting
DESCRIPTION:Curious How Heartland Intergroup Works?\nCome and visit us during our Monthly Rep meeting\non the second Monday of each month at 6PM via Zoom or In-person at:\n1643 Williamsburg Square\nSuite 103\nLakeland\, FL 33803.\nFor information and after 5:00PM access code\, call us on 863-688-0211.\nZoom Meeting ID: 232 358 042\nNo password is needed. The Host will let you in.\nJoin Zoom
URL:https://www.heartlandintergroup.org/event/heartland-intergroup-monthly-representative-meeting-7/
LOCATION:Heartland Intergroup Office\, 1643 Williamsburg Square\, Suite 103\, Lakeland\, FL\, 33803\, United States
CATEGORIES:Heartland Intergroup,Meetings
ATTACH;FMTTYPE=image/webp:https://www.heartlandintergroup.org/wp-content/uploads/2025/12/Screenshot-2026-02-02-at-3.34.45-PM.webp
ORGANIZER;CN="Heartland Intergroup":MAILTO:officemanager@heartlandintergroup.org
END:VEVENT
END:VCALENDAR