BEGIN:VCALENDAR
VERSION:2.0
PRODID:-//Heartland Intergroup, Inc. - ECPv6.15.20//NONSGML v1.0//EN
CALSCALE:GREGORIAN
METHOD:PUBLISH
X-ORIGINAL-URL:https://www.heartlandintergroup.org
X-WR-CALDESC:Events for Heartland Intergroup, Inc.
REFRESH-INTERVAL;VALUE=DURATION:PT1H
X-Robots-Tag:noindex
X-PUBLISHED-TTL:PT1H
BEGIN:VTIMEZONE
TZID:America/New_York
BEGIN:DAYLIGHT
TZOFFSETFROM:-0500
TZOFFSETTO:-0400
TZNAME:EDT
DTSTART:20250309T070000
END:DAYLIGHT
BEGIN:STANDARD
TZOFFSETFROM:-0400
TZOFFSETTO:-0500
TZNAME:EST
DTSTART:20251102T060000
END:STANDARD
BEGIN:DAYLIGHT
TZOFFSETFROM:-0500
TZOFFSETTO:-0400
TZNAME:EDT
DTSTART:20260308T070000
END:DAYLIGHT
BEGIN:STANDARD
TZOFFSETFROM:-0400
TZOFFSETTO:-0500
TZNAME:EST
DTSTART:20261101T060000
END:STANDARD
BEGIN:DAYLIGHT
TZOFFSETFROM:-0500
TZOFFSETTO:-0400
TZNAME:EDT
DTSTART:20270314T070000
END:DAYLIGHT
BEGIN:STANDARD
TZOFFSETFROM:-0400
TZOFFSETTO:-0500
TZNAME:EST
DTSTART:20271107T060000
END:STANDARD
END:VTIMEZONE
BEGIN:VEVENT
DTSTART;TZID=America/New_York:20260102T183000
DTEND;TZID=America/New_York:20260111T193000
DTSTAMP:20260425T095618
CREATED:20260102T160359Z
LAST-MODIFIED:20260111T215001Z
UID:6719-1767378600-1768159800@www.heartlandintergroup.org
SUMMARY:Downtown Group Announces Meeting Changes
DESCRIPTION:Downtown Group\nAnnounces Coming Changes:\nEffective January 4th\, 2026\nWednesday Night Meeting Changes to 6:30 P.M.\nOpen Discussion Meeting\nLast Wednesday of the Month Speaker\nSunday Night Meeting Changes to 6:30 P.M.\nLiterature Meeting\n1st Sunday Big Book\n2nd Sunday 12&12\n3rd Sunday “As Bill Sees It”\n4th Sunday Daily Reflection/24 Hours A Day\n5th Sunday Tradition from 12&12\nCollege Heights United Methodist Church\n942 South Boulevard\nLakeland\, Florida 33803
URL:https://www.heartlandintergroup.org/event/6719/
LOCATION:College Heights Unified Methodist Church\, 934 South Blvd\, Lakeland\, FL\, 33803\, United States
CATEGORIES:Meetings
ATTACH;FMTTYPE=image/webp:https://www.heartlandintergroup.org/wp-content/uploads/2025/12/1000004283.webp
END:VEVENT
END:VCALENDAR