BEGIN:VCALENDAR
VERSION:2.0
PRODID:-//Heartland Intergroup, Inc. - ECPv6.15.20//NONSGML v1.0//EN
CALSCALE:GREGORIAN
METHOD:PUBLISH
X-ORIGINAL-URL:https://www.heartlandintergroup.org
X-WR-CALDESC:Events for Heartland Intergroup, Inc.
REFRESH-INTERVAL;VALUE=DURATION:PT1H
X-Robots-Tag:noindex
X-PUBLISHED-TTL:PT1H
BEGIN:VTIMEZONE
TZID:America/New_York
BEGIN:DAYLIGHT
TZOFFSETFROM:-0500
TZOFFSETTO:-0400
TZNAME:EDT
DTSTART:20240310T070000
END:DAYLIGHT
BEGIN:STANDARD
TZOFFSETFROM:-0400
TZOFFSETTO:-0500
TZNAME:EST
DTSTART:20241103T060000
END:STANDARD
BEGIN:DAYLIGHT
TZOFFSETFROM:-0500
TZOFFSETTO:-0400
TZNAME:EDT
DTSTART:20250309T070000
END:DAYLIGHT
BEGIN:STANDARD
TZOFFSETFROM:-0400
TZOFFSETTO:-0500
TZNAME:EST
DTSTART:20251102T060000
END:STANDARD
BEGIN:DAYLIGHT
TZOFFSETFROM:-0500
TZOFFSETTO:-0400
TZNAME:EDT
DTSTART:20260308T070000
END:DAYLIGHT
BEGIN:STANDARD
TZOFFSETFROM:-0400
TZOFFSETTO:-0500
TZNAME:EST
DTSTART:20261101T060000
END:STANDARD
END:VTIMEZONE
BEGIN:VEVENT
DTSTART;TZID=America/New_York:20251203T193000
DTEND;TZID=America/New_York:20251231T203000
DTSTAMP:20260425T112318
CREATED:20251107T145236Z
LAST-MODIFIED:20260111T215117Z
UID:4524-1764790200-1767213000@www.heartlandintergroup.org
SUMMARY:Downtown Group is Moving
DESCRIPTION:The Downtown Group of  A.A is Moving.\nBeginning 12/03/2025 \nCollege Heights United Methodist Church\n934 South Blvd.\, Lakeland\, FL 33803 \nSUNDAY\, 7:30PM: STEP STUDY\nWEDNESDAY\, 7:30PM: BIG BOOK STUDY
URL:https://www.heartlandintergroup.org/event/downtown-group-is-moving/
LOCATION:College Heights Unified Methodist Church\, 934 South Blvd\, Lakeland\, FL\, 33803\, United States
CATEGORIES:Meetings
ATTACH;FMTTYPE=application/pdf:https://www.heartlandintergroup.org/wp-content/uploads/2025/11/AA.pdf
END:VEVENT
END:VCALENDAR