BEGIN:VCALENDAR
VERSION:2.0
PRODID:-//Heartland Intergroup, Inc. - ECPv6.15.20//NONSGML v1.0//EN
CALSCALE:GREGORIAN
METHOD:PUBLISH
X-ORIGINAL-URL:https://www.heartlandintergroup.org
X-WR-CALDESC:Events for Heartland Intergroup, Inc.
REFRESH-INTERVAL;VALUE=DURATION:PT1H
X-Robots-Tag:noindex
X-PUBLISHED-TTL:PT1H
BEGIN:VTIMEZONE
TZID:America/New_York
BEGIN:DAYLIGHT
TZOFFSETFROM:-0500
TZOFFSETTO:-0400
TZNAME:EDT
DTSTART:20240310T070000
END:DAYLIGHT
BEGIN:STANDARD
TZOFFSETFROM:-0400
TZOFFSETTO:-0500
TZNAME:EST
DTSTART:20241103T060000
END:STANDARD
BEGIN:DAYLIGHT
TZOFFSETFROM:-0500
TZOFFSETTO:-0400
TZNAME:EDT
DTSTART:20250309T070000
END:DAYLIGHT
BEGIN:STANDARD
TZOFFSETFROM:-0400
TZOFFSETTO:-0500
TZNAME:EST
DTSTART:20251102T060000
END:STANDARD
BEGIN:DAYLIGHT
TZOFFSETFROM:-0500
TZOFFSETTO:-0400
TZNAME:EDT
DTSTART:20260308T070000
END:DAYLIGHT
BEGIN:STANDARD
TZOFFSETFROM:-0400
TZOFFSETTO:-0500
TZNAME:EST
DTSTART:20261101T060000
END:STANDARD
END:VTIMEZONE
BEGIN:VEVENT
DTSTART;TZID=America/New_York:20251126T173000
DTEND;TZID=America/New_York:20251127T160000
DTSTAMP:20260425T123704
CREATED:20251023T052307Z
LAST-MODIFIED:20260111T215117Z
UID:4444-1764178200-1764259200@www.heartlandintergroup.org
SUMMARY:Thanksgiving Alcothon - 2025
DESCRIPTION:Begins – Wednesday November 27\, 2025 @ 5:30PM\nEnds – Thursday\, Thanksgiving Day @ 4:00PM\n2720 East Main St Lakeland\, Fl.\n50/50 drawing at the end of the Alcothon\nThanksgiving Dinner from 1:00PM until 4:00PM Thanksgiving Day\nMeats will be supplied – will need side dishes. Please be giving.\nMeeting times available to fill. Check bulletin board @ 2720 Club to sign up.\nDonations of additional snacks and food items for the Alcothon hours are greatly appreciated.\nSponsored by the AA Meetings at the 2720 Club\n\nThanksgiving-Alcothon-Meeting-Schedule-2025-11-23_104615
URL:https://www.heartlandintergroup.org/event/thanksgiving-alcothon-2025/
LOCATION:2720 Club\, 2720 E. Main Street\, Lakeland\, FL\, United States
CATEGORIES:Dinners,Meetings
ATTACH;FMTTYPE=application/pdf:https://www.heartlandintergroup.org/wp-content/uploads/2025/10/Alcothon-2025-Thanksgiving-1.pdf-1.pdf
END:VEVENT
END:VCALENDAR