BEGIN:VCALENDAR
VERSION:2.0
PRODID:-//Heartland Intergroup, Inc. - ECPv6.15.20//NONSGML v1.0//EN
CALSCALE:GREGORIAN
METHOD:PUBLISH
X-ORIGINAL-URL:https://www.heartlandintergroup.org
X-WR-CALDESC:Events for Heartland Intergroup, Inc.
REFRESH-INTERVAL;VALUE=DURATION:PT1H
X-Robots-Tag:noindex
X-PUBLISHED-TTL:PT1H
BEGIN:VTIMEZONE
TZID:America/New_York
BEGIN:DAYLIGHT
TZOFFSETFROM:-0500
TZOFFSETTO:-0400
TZNAME:EDT
DTSTART:20250309T070000
END:DAYLIGHT
BEGIN:STANDARD
TZOFFSETFROM:-0400
TZOFFSETTO:-0500
TZNAME:EST
DTSTART:20251102T060000
END:STANDARD
BEGIN:DAYLIGHT
TZOFFSETFROM:-0500
TZOFFSETTO:-0400
TZNAME:EDT
DTSTART:20260308T070000
END:DAYLIGHT
BEGIN:STANDARD
TZOFFSETFROM:-0400
TZOFFSETTO:-0500
TZNAME:EST
DTSTART:20261101T060000
END:STANDARD
BEGIN:DAYLIGHT
TZOFFSETFROM:-0500
TZOFFSETTO:-0400
TZNAME:EDT
DTSTART:20270314T070000
END:DAYLIGHT
BEGIN:STANDARD
TZOFFSETFROM:-0400
TZOFFSETTO:-0500
TZNAME:EST
DTSTART:20271107T060000
END:STANDARD
END:VTIMEZONE
BEGIN:VEVENT
DTSTART;TZID=America/New_York:20260209T180000
DTEND;TZID=America/New_York:20260209T190000
DTSTAMP:20260425T065355
CREATED:20251205T202124Z
LAST-MODIFIED:20260202T203602Z
UID:5827-1770660000-1770663600@www.heartlandintergroup.org
SUMMARY:Heartland Intergroup Monthly Representative Meeting
DESCRIPTION:Curious How Heartland Intergroup Works?\nCome and visit us during our Monthly Rep meeting\non the second Monday of each month at 6PM via Zoom or In-person at:\n1643 Williamsburg Square\nSuite 103\nLakeland\, FL 33803.\nFor information and after 5:00PM access code\, call us on 863-688-0211.\nZoom Meeting ID: 232 358 042\nNo password is needed. The Host will let you in.\nJoin Zoom
URL:https://www.heartlandintergroup.org/event/heartland-intergroup-monthly-representative-meeting-3/
LOCATION:Heartland Intergroup Office\, 1643 Williamsburg Square\, Suite 103\, Lakeland\, FL\, 33803\, United States
CATEGORIES:Heartland Intergroup,Meetings
ATTACH;FMTTYPE=image/png:https://www.heartlandintergroup.org/wp-content/uploads/2025/12/Screenshot-2026-02-02-at-3.34.45-PM.png
ORGANIZER;CN="Heartland Intergroup":MAILTO:officemanager@heartlandintergroup.org
END:VEVENT
END:VCALENDAR