BEGIN:VCALENDAR
VERSION:2.0
PRODID:-//Heartland Intergroup, Inc. - ECPv6.15.20//NONSGML v1.0//EN
CALSCALE:GREGORIAN
METHOD:PUBLISH
X-WR-CALNAME:Heartland Intergroup, Inc.
X-ORIGINAL-URL:https://www.heartlandintergroup.org
X-WR-CALDESC:Events for Heartland Intergroup, Inc.
REFRESH-INTERVAL;VALUE=DURATION:PT1H
X-Robots-Tag:noindex
X-PUBLISHED-TTL:PT1H
BEGIN:VTIMEZONE
TZID:America/New_York
BEGIN:DAYLIGHT
TZOFFSETFROM:-0500
TZOFFSETTO:-0400
TZNAME:EDT
DTSTART:20240310T070000
END:DAYLIGHT
BEGIN:STANDARD
TZOFFSETFROM:-0400
TZOFFSETTO:-0500
TZNAME:EST
DTSTART:20241103T060000
END:STANDARD
BEGIN:DAYLIGHT
TZOFFSETFROM:-0500
TZOFFSETTO:-0400
TZNAME:EDT
DTSTART:20250309T070000
END:DAYLIGHT
BEGIN:STANDARD
TZOFFSETFROM:-0400
TZOFFSETTO:-0500
TZNAME:EST
DTSTART:20251102T060000
END:STANDARD
BEGIN:DAYLIGHT
TZOFFSETFROM:-0500
TZOFFSETTO:-0400
TZNAME:EDT
DTSTART:20260308T070000
END:DAYLIGHT
BEGIN:STANDARD
TZOFFSETFROM:-0400
TZOFFSETTO:-0500
TZNAME:EST
DTSTART:20261101T060000
END:STANDARD
BEGIN:DAYLIGHT
TZOFFSETFROM:-0500
TZOFFSETTO:-0400
TZNAME:EDT
DTSTART:20270314T070000
END:DAYLIGHT
BEGIN:STANDARD
TZOFFSETFROM:-0400
TZOFFSETTO:-0500
TZNAME:EST
DTSTART:20271107T060000
END:STANDARD
END:VTIMEZONE
BEGIN:VEVENT
DTSTART;TZID=America/New_York:20251210T190000
DTEND;TZID=America/New_York:20260108T200000
DTSTAMP:20260425T082245
CREATED:20251210T183233Z
LAST-MODIFIED:20260111T215117Z
UID:5980-1765393200-1767902400@www.heartlandintergroup.org
SUMMARY:New Hope Study Group - IMPORTANT TIME CHANGE
DESCRIPTION:Effective New Year’s Day: Thursday\, Jan 1\, 2026\nThe Thursday Night New Hope Study Group\nat Christ the King Church is moving its start time forward.\nNEW TIME: 7:00 PM\n(Previously 8:00 PM) \nMeeting Details: \n• Format: Open Discussion \n• Status: OPEN Meeting (All are welcome) \n• Special Event: Birthday Night is held on the last Thursday of every month. \n• Last Thursday of the month is a Speaker Meeting \nLocation:\nChrist the King Church\n6400 North Socrum Loop Road\nLakeland\, FL 33809 \nPlease pass this information on to other members and groups! \nThis change will be reflected in the Intergrouper\, Heartland Website\, and Meeting Guide App.
URL:https://www.heartlandintergroup.org/event/new-hope-study-group-important-time-change/
LOCATION:Christ the King Church\, 6400 North Socrum Loop Road\, Lakeland\, FL\, 33809\, United States
CATEGORIES:Meetings
ATTACH;FMTTYPE=image/webp:https://www.heartlandintergroup.org/wp-content/uploads/2025/12/NHSG_Time_change_announcement.webp
END:VEVENT
BEGIN:VEVENT
DTSTART;TZID=America/New_York:20251231T173000
DTEND;TZID=America/New_York:20260101T160000
DTSTAMP:20260425T082245
CREATED:20251201T135247Z
LAST-MODIFIED:20260111T215001Z
UID:5681-1767202200-1767283200@www.heartlandintergroup.org
SUMMARY:New Year Alcothon 2026
DESCRIPTION:Begins – Wednesday December 31\,2025 @ 5:30 PM\nEnds – Thursday New Years Day\, 2026 @ 4:00 P M\n\n\nFind Schedule Here\n\n\n2720 East Main St Lakeland\, Fl. 33801\n\n\nFINGER FOOD\, DRINKS AND SNACKS WILL BE AVAILABLE. Side dishes and donations appreciated\n\n\n50/50 Drawing to be held at the end of the\nAlcothon. You do not have to be present to win.\nShow up and have a Happy Sober New Year\nSponsored by AA Meetings at the 2720 Club\nNot for Profit or a Fundraiser
URL:https://www.heartlandintergroup.org/event/new-year-alcothon-2026/
LOCATION:2720 Club\, 2720 E. Main Street\, Lakeland\, FL\, United States
CATEGORIES:Alcothon,Food,Meetings,Raffles
ATTACH;FMTTYPE=application/pdf:https://www.heartlandintergroup.org/wp-content/uploads/2025/12/New-Year-Flyer-2026.pdf
END:VEVENT
BEGIN:VEVENT
DTSTART;TZID=America/New_York:20251231T173000
DTEND;TZID=America/New_York:20260101T160000
DTSTAMP:20260425T082245
CREATED:20251229T131340Z
LAST-MODIFIED:20260111T215001Z
UID:6604-1767202200-1767283200@www.heartlandintergroup.org
SUMMARY:New Year Alcothon 2026 Schedule
DESCRIPTION:Begins – Wednesday December 31\,2025 @ 5:30 PM\nEnds – Thursday New Years Day\, 2026 @ 4:00 P M\n\n\nFind Schedule Here\n\n\n2720 East Main St Lakeland\, Fl. 33801\n\n\nFINGER FOOD\, DRINKS AND SNACKS WILL BE AVAILABLE. Side dishes and donations appreciated\n\n\n50/50 Drawing to be held at the end of the\nAlcothon. You do not have to be present to win.\nShow up and have a Happy Sober New Year\nSponsored by AA Meetings at the 2720 Club\nNot for Profit or a Fundraiser
URL:https://www.heartlandintergroup.org/event/new-year-alcothon-2026-schedule/
LOCATION:2720 Club\, 2720 E. Main Street\, Lakeland\, FL\, United States
CATEGORIES:Alcothon,Food,Meetings,Raffles
ATTACH;FMTTYPE=image/webp:https://www.heartlandintergroup.org/wp-content/uploads/2025/12/New-Year-Alcothon-Schedule_2025-12-28_235603.webp
END:VEVENT
BEGIN:VEVENT
DTSTART;TZID=America/New_York:20260102T183000
DTEND;TZID=America/New_York:20260111T193000
DTSTAMP:20260425T082245
CREATED:20260102T160359Z
LAST-MODIFIED:20260111T215001Z
UID:6719-1767378600-1768159800@www.heartlandintergroup.org
SUMMARY:Downtown Group Announces Meeting Changes
DESCRIPTION:Downtown Group\nAnnounces Coming Changes:\nEffective January 4th\, 2026\nWednesday Night Meeting Changes to 6:30 P.M.\nOpen Discussion Meeting\nLast Wednesday of the Month Speaker\nSunday Night Meeting Changes to 6:30 P.M.\nLiterature Meeting\n1st Sunday Big Book\n2nd Sunday 12&12\n3rd Sunday “As Bill Sees It”\n4th Sunday Daily Reflection/24 Hours A Day\n5th Sunday Tradition from 12&12\nCollege Heights United Methodist Church\n942 South Boulevard\nLakeland\, Florida 33803
URL:https://www.heartlandintergroup.org/event/6719/
LOCATION:College Heights Unified Methodist Church\, 934 South Blvd\, Lakeland\, FL\, 33803\, United States
CATEGORIES:Meetings
ATTACH;FMTTYPE=image/webp:https://www.heartlandintergroup.org/wp-content/uploads/2025/12/1000004283.webp
END:VEVENT
BEGIN:VEVENT
DTSTART;TZID=America/New_York:20260112T180000
DTEND;TZID=America/New_York:20260112T190000
DTSTAMP:20260425T082245
CREATED:20251203T003520Z
LAST-MODIFIED:20260111T215001Z
UID:5755-1768240800-1768244400@www.heartlandintergroup.org
SUMMARY:Heartland Intergroup Monthly Representative Meeting
DESCRIPTION:Curious How Heartland Intergroup Works?\nCome and visit us during our Monthly Rep meeting\non the second Monday of each month at 6PM via Zoom or In-person at:\n1643 Williamsburg Square\nSuite 103\nLakeland\, FL 33803.\nFor information and after 5:00PM access code\, call us on 863-688-0211.\nZoom Meeting ID: 232 358 042\nNo password is needed. The Host will let you in.\nJoin Zoom
URL:https://www.heartlandintergroup.org/event/heartland-intergroup-monthly-representative-meeting-2/
LOCATION:Heartland Intergroup Office\, 1643 Williamsburg Square\, Suite 103\, Lakeland\, FL\, 33803\, United States
CATEGORIES:Heartland Intergroup,Meetings
ATTACH;FMTTYPE=image/webp:https://www.heartlandintergroup.org/wp-content/uploads/2025/06/cropped-heartland-intergroup_alcoholics-anonymous_logo_228x60-3.webp
ORGANIZER;CN="Heartland Intergroup":MAILTO:officemanager@heartlandintergroup.org
END:VEVENT
END:VCALENDAR