BEGIN:VCALENDAR
VERSION:2.0
PRODID:-//Heartland Intergroup, Inc. - ECPv6.15.20//NONSGML v1.0//EN
CALSCALE:GREGORIAN
METHOD:PUBLISH
X-ORIGINAL-URL:https://www.heartlandintergroup.org
X-WR-CALDESC:Events for Heartland Intergroup, Inc.
REFRESH-INTERVAL;VALUE=DURATION:PT1H
X-Robots-Tag:noindex
X-PUBLISHED-TTL:PT1H
BEGIN:VTIMEZONE
TZID:America/New_York
BEGIN:DAYLIGHT
TZOFFSETFROM:-0500
TZOFFSETTO:-0400
TZNAME:EDT
DTSTART:20250309T070000
END:DAYLIGHT
BEGIN:STANDARD
TZOFFSETFROM:-0400
TZOFFSETTO:-0500
TZNAME:EST
DTSTART:20251102T060000
END:STANDARD
BEGIN:DAYLIGHT
TZOFFSETFROM:-0500
TZOFFSETTO:-0400
TZNAME:EDT
DTSTART:20260308T070000
END:DAYLIGHT
BEGIN:STANDARD
TZOFFSETFROM:-0400
TZOFFSETTO:-0500
TZNAME:EST
DTSTART:20261101T060000
END:STANDARD
BEGIN:DAYLIGHT
TZOFFSETFROM:-0500
TZOFFSETTO:-0400
TZNAME:EDT
DTSTART:20270314T070000
END:DAYLIGHT
BEGIN:STANDARD
TZOFFSETFROM:-0400
TZOFFSETTO:-0500
TZNAME:EST
DTSTART:20271107T060000
END:STANDARD
END:VTIMEZONE
BEGIN:VEVENT
DTSTART;TZID=America/New_York:20260221T090000
DTEND;TZID=America/New_York:20260221T150000
DTSTAMP:20260425T065343
CREATED:20251208T223237Z
LAST-MODIFIED:20260111T215000Z
UID:5945-1771664400-1771686000@www.heartlandintergroup.org
SUMMARY:"Your Recovery: A Checkup From The Neck Up" - Women's Conference
DESCRIPTION:This is a one-day interactive Women’s Conference/Workshop. It will feature a quick review of steps 3\, 4 and 5 and hands-on work with steps 6\, 7\, 8 and 9. \nLunch is included. \nTickets are cash only and $20.00 – See Flyer for how to get tickets \nFor additional information\, contact Joanann B\, (863) 660-6341
URL:https://www.heartlandintergroup.org/event/your-recovery-a-checkup-from-the-neck-up-womens-conference/
LOCATION:Highlands Church of Christ\, 5730 Lakeland Highlands Rd\, Lakeland\, FL\, 33813\, United States
CATEGORIES:Lunch,Speakers,Workshop
ATTACH;FMTTYPE=application/pdf:https://www.heartlandintergroup.org/wp-content/uploads/2025/12/Womens-Conference-02.21.26.pdf
END:VEVENT
END:VCALENDAR