BEGIN:VCALENDAR
VERSION:2.0
PRODID:-//Heartland Intergroup, Inc. - ECPv6.15.20//NONSGML v1.0//EN
CALSCALE:GREGORIAN
METHOD:PUBLISH
X-WR-CALNAME:Heartland Intergroup, Inc.
X-ORIGINAL-URL:https://www.heartlandintergroup.org
X-WR-CALDESC:Events for Heartland Intergroup, Inc.
REFRESH-INTERVAL;VALUE=DURATION:PT1H
X-Robots-Tag:noindex
X-PUBLISHED-TTL:PT1H
BEGIN:VTIMEZONE
TZID:America/New_York
BEGIN:DAYLIGHT
TZOFFSETFROM:-0500
TZOFFSETTO:-0400
TZNAME:EDT
DTSTART:20240310T070000
END:DAYLIGHT
BEGIN:STANDARD
TZOFFSETFROM:-0400
TZOFFSETTO:-0500
TZNAME:EST
DTSTART:20241103T060000
END:STANDARD
BEGIN:DAYLIGHT
TZOFFSETFROM:-0500
TZOFFSETTO:-0400
TZNAME:EDT
DTSTART:20250309T070000
END:DAYLIGHT
BEGIN:STANDARD
TZOFFSETFROM:-0400
TZOFFSETTO:-0500
TZNAME:EST
DTSTART:20251102T060000
END:STANDARD
BEGIN:DAYLIGHT
TZOFFSETFROM:-0500
TZOFFSETTO:-0400
TZNAME:EDT
DTSTART:20260308T070000
END:DAYLIGHT
BEGIN:STANDARD
TZOFFSETFROM:-0400
TZOFFSETTO:-0500
TZNAME:EST
DTSTART:20261101T060000
END:STANDARD
END:VTIMEZONE
BEGIN:VEVENT
DTSTART;TZID=America/New_York:20251201T090000
DTEND;TZID=America/New_York:20251231T170000
DTSTAMP:20260425T123411
CREATED:20251017T100133Z
LAST-MODIFIED:20260111T215117Z
UID:4430-1764579600-1767200400@www.heartlandintergroup.org
SUMMARY:Basket Raffle
DESCRIPTION:Come Visit Our New Bookstore!\nPurchase A Ticket For An Awesome Gift Basket In The Bookstore\n1643 Williamsburg Square\nSuite 103\nLakeland FL 33803 \nThe winner will be called the first week of January! If your group would like to donate a gift basket\, please email officemanager@heartlandintergroup.org
URL:https://www.heartlandintergroup.org/event/basket-raffle/
LOCATION:Heartland Intergroup Office\, 1643 Williamsburg Square\, Suite 103\, Lakeland\, FL\, 33803\, United States
CATEGORIES:Heartland Intergroup,Raffles
ATTACH;FMTTYPE=image/jpeg:https://www.heartlandintergroup.org/wp-content/uploads/2025/10/Basket-_Raffle-2025-10-16-132821.jpg
ORGANIZER;CN="Heartland Intergroup":MAILTO:officemanager@heartlandintergroup.org
END:VEVENT
END:VCALENDAR