BEGIN:VCALENDAR
VERSION:2.0
PRODID:-//Heartland Intergroup, Inc. - ECPv6.15.20//NONSGML v1.0//EN
CALSCALE:GREGORIAN
METHOD:PUBLISH
X-WR-CALNAME:Heartland Intergroup, Inc.
X-ORIGINAL-URL:https://www.heartlandintergroup.org
X-WR-CALDESC:Events for Heartland Intergroup, Inc.
REFRESH-INTERVAL;VALUE=DURATION:PT1H
X-Robots-Tag:noindex
X-PUBLISHED-TTL:PT1H
BEGIN:VTIMEZONE
TZID:America/New_York
BEGIN:DAYLIGHT
TZOFFSETFROM:-0500
TZOFFSETTO:-0400
TZNAME:EDT
DTSTART:20250309T070000
END:DAYLIGHT
BEGIN:STANDARD
TZOFFSETFROM:-0400
TZOFFSETTO:-0500
TZNAME:EST
DTSTART:20251102T060000
END:STANDARD
BEGIN:DAYLIGHT
TZOFFSETFROM:-0500
TZOFFSETTO:-0400
TZNAME:EDT
DTSTART:20260308T070000
END:DAYLIGHT
BEGIN:STANDARD
TZOFFSETFROM:-0400
TZOFFSETTO:-0500
TZNAME:EST
DTSTART:20261101T060000
END:STANDARD
BEGIN:DAYLIGHT
TZOFFSETFROM:-0500
TZOFFSETTO:-0400
TZNAME:EDT
DTSTART:20270314T070000
END:DAYLIGHT
BEGIN:STANDARD
TZOFFSETFROM:-0400
TZOFFSETTO:-0500
TZNAME:EST
DTSTART:20271107T060000
END:STANDARD
END:VTIMEZONE
BEGIN:VEVENT
DTSTART;TZID=America/New_York:20260116T200000
DTEND;TZID=America/New_York:20260116T230000
DTSTAMP:20260425T124049
CREATED:20260103T223011Z
LAST-MODIFIED:20260111T215000Z
UID:6782-1768593600-1768604400@www.heartlandintergroup.org
SUMMARY:A New Year In Sobriety
DESCRIPTION:Family Fun Night presents a new year in sobriety.\nA sober family event.\nKids Games\, new years southern food\, and music will be the main focus of the evening.\nWe will have a 50/50 raffle.\nDonations are always welcome.
URL:https://www.heartlandintergroup.org/event/a-new-year-in-sobriety/
LOCATION:Asbury United Methodist Church\, 745 E. Main Street\, Bartow\, FL\, 33830\, United States
CATEGORIES:Food,Games,Music,Raffles
ATTACH;FMTTYPE=image/webp:https://www.heartlandintergroup.org/wp-content/uploads/2026/01/Family-Fun-Nighr.webp
ORGANIZER;CN="Family Fun Night":MAILTO:mailto:johnbaptistkeilholtz@gmail.com
END:VEVENT
END:VCALENDAR