BEGIN:VCALENDAR
VERSION:2.0
PRODID:-//Heartland Intergroup, Inc. - ECPv6.15.20//NONSGML v1.0//EN
CALSCALE:GREGORIAN
METHOD:PUBLISH
X-ORIGINAL-URL:https://www.heartlandintergroup.org
X-WR-CALDESC:Events for Heartland Intergroup, Inc.
REFRESH-INTERVAL;VALUE=DURATION:PT1H
X-Robots-Tag:noindex
X-PUBLISHED-TTL:PT1H
BEGIN:VTIMEZONE
TZID:America/New_York
BEGIN:DAYLIGHT
TZOFFSETFROM:-0500
TZOFFSETTO:-0400
TZNAME:EDT
DTSTART:20240310T070000
END:DAYLIGHT
BEGIN:STANDARD
TZOFFSETFROM:-0400
TZOFFSETTO:-0500
TZNAME:EST
DTSTART:20241103T060000
END:STANDARD
BEGIN:DAYLIGHT
TZOFFSETFROM:-0500
TZOFFSETTO:-0400
TZNAME:EDT
DTSTART:20250309T070000
END:DAYLIGHT
BEGIN:STANDARD
TZOFFSETFROM:-0400
TZOFFSETTO:-0500
TZNAME:EST
DTSTART:20251102T060000
END:STANDARD
BEGIN:DAYLIGHT
TZOFFSETFROM:-0500
TZOFFSETTO:-0400
TZNAME:EDT
DTSTART:20260308T070000
END:DAYLIGHT
BEGIN:STANDARD
TZOFFSETFROM:-0400
TZOFFSETTO:-0500
TZNAME:EST
DTSTART:20261101T060000
END:STANDARD
BEGIN:DAYLIGHT
TZOFFSETFROM:-0500
TZOFFSETTO:-0400
TZNAME:EDT
DTSTART:20270314T070000
END:DAYLIGHT
BEGIN:STANDARD
TZOFFSETFROM:-0400
TZOFFSETTO:-0500
TZNAME:EST
DTSTART:20271107T060000
END:STANDARD
END:VTIMEZONE
BEGIN:VEVENT
DTSTART;TZID=America/New_York:20260307T170000
DTEND;TZID=America/New_York:20260307T200000
DTSTAMP:20260425T064022
CREATED:20260112T153533Z
LAST-MODIFIED:20260112T153533Z
UID:7144-1772902800-1772913600@www.heartlandintergroup.org
SUMMARY:A.A. Through the Ages
DESCRIPTION:Heartland Intergroup’s Annual Fundraising Dinner\nSaturday\, March 7\, 2026\nDonald Bronson Community Center\n124 Bronson Trail\nPolk City\, Florida 33868 \nTICKETS ARE $25.00*\n*Tickets will not be sold at door. \nAvailable at Heartland Intergroup & within our community. \nDoors open at 5:00 PM\nDinner at 6:00 PM\nNewcomer & Longtimer Speakers start at 7:00 PM \nDoor Prizes & 50/50 Raffle \nDon’t forget a dessert for the Dessert Auction!
URL:https://www.heartlandintergroup.org/event/a-a-through-the-ages/
LOCATION:Donald Bronson Community Center\, 124 Bronson Trail\, Polk City\, FL\, 33868\, United States
CATEGORIES:Dinners,Heartland Intergroup,Raffles,Speakers
ATTACH;FMTTYPE=image/jpeg:https://www.heartlandintergroup.org/wp-content/uploads/2026/01/IMG_3959.jpeg
ORGANIZER;CN="Heartland Intergroup":MAILTO:officemanager@heartlandintergroup.org
END:VEVENT
BEGIN:VEVENT
DTSTART;TZID=America/New_York:20251224T173000
DTEND;TZID=America/New_York:20251225T163000
DTSTAMP:20260425T064022
CREATED:20251221T135728Z
LAST-MODIFIED:20260111T215001Z
UID:6313-1766597400-1766680200@www.heartlandintergroup.org
SUMMARY:Christmas Alcothon 2025 Meeting Schedule
DESCRIPTION:Begins – Wednesday\, December 24\, 2025 @ 5:30 PM\nEnds – Thursday\, Christmas Day @ 4:00PM\nMeetings from 5:30PM night before Christmas all through the night until Christmas Day at 1PM. \nShow up and have a Fantastic Sober Xmas\nSponsored by the AA Meetings at the 2720 Club
URL:https://www.heartlandintergroup.org/event/christmas-alcothon-2025-meeting-schedule/
LOCATION:FL
CATEGORIES:Alcothon,Dinners,Meetings
ATTACH;FMTTYPE=image/webp:https://www.heartlandintergroup.org/wp-content/uploads/2025/12/Meeting-Schedule-Christmas-Alcothon_2025-12-21.webp
END:VEVENT
BEGIN:VEVENT
DTSTART;TZID=America/New_York:20251224T173000
DTEND;TZID=America/New_York:20251225T163000
DTSTAMP:20260425T064022
CREATED:20251125T140815Z
LAST-MODIFIED:20260111T215002Z
UID:4944-1766597400-1766680200@www.heartlandintergroup.org
SUMMARY:Christmas Alcothon 2025
DESCRIPTION:Begins – Wednesday\, December 24\, 2025 @ 5:30 PM\nEnds – Thursday\, Christmas Day @ 4:00PM\nMeetings from 5:30PM night before Christmas all through the night until Christmas Day at 1PM. See Schedule \n• 2720 East Main St Lakeland\, FL.\n• Christmas Dinner – From 1:00PM Until 4:00PM Christmas Day (all dishes and sides appreciated)\n• Meats will be supplied – will need side dishes. Please be giving. Donations also appreciated\n• 50/50 Drawing at the end of the Alcothon\n• Sign-up sheet for holding a meeting is on bulletin board @ the 2720 Club \nShow up and have a Fantastic Sober Xmas\nSponsored by the AA Meetings at the 2720 Club
URL:https://www.heartlandintergroup.org/event/christmas-alcothon-2025/
LOCATION:FL
CATEGORIES:Alcothon,Dinners,Meetings
ATTACH;FMTTYPE=application/pdf:https://www.heartlandintergroup.org/wp-content/uploads/2025/11/Christmas-Flyer-2025-_2025-11-25_013553.pdf
END:VEVENT
BEGIN:VEVENT
DTSTART;TZID=America/New_York:20251126T173000
DTEND;TZID=America/New_York:20251127T160000
DTSTAMP:20260425T064022
CREATED:20251023T052307Z
LAST-MODIFIED:20260111T215117Z
UID:4444-1764178200-1764259200@www.heartlandintergroup.org
SUMMARY:Thanksgiving Alcothon - 2025
DESCRIPTION:Begins – Wednesday November 27\, 2025 @ 5:30PM\nEnds – Thursday\, Thanksgiving Day @ 4:00PM\n2720 East Main St Lakeland\, Fl.\n50/50 drawing at the end of the Alcothon\nThanksgiving Dinner from 1:00PM until 4:00PM Thanksgiving Day\nMeats will be supplied – will need side dishes. Please be giving.\nMeeting times available to fill. Check bulletin board @ 2720 Club to sign up.\nDonations of additional snacks and food items for the Alcothon hours are greatly appreciated.\nSponsored by the AA Meetings at the 2720 Club\n\nThanksgiving-Alcothon-Meeting-Schedule-2025-11-23_104615
URL:https://www.heartlandintergroup.org/event/thanksgiving-alcothon-2025/
LOCATION:2720 Club\, 2720 E. Main Street\, Lakeland\, FL\, United States
CATEGORIES:Dinners,Meetings
ATTACH;FMTTYPE=application/pdf:https://www.heartlandintergroup.org/wp-content/uploads/2025/10/Alcothon-2025-Thanksgiving-1.pdf-1.pdf
END:VEVENT
BEGIN:VEVENT
DTSTART;TZID=America/New_York:20251101T163000
DTEND;TZID=America/New_York:20251101T193000
DTSTAMP:20260425T064022
CREATED:20250921T133448Z
LAST-MODIFIED:20260111T215118Z
UID:4102-1762014600-1762025400@www.heartlandintergroup.org
SUMMARY:The Gift of Sobriety Gratitude Dinner
DESCRIPTION:Doors Open: 4:30PM\nDinner: 5:00PM\nMeeting: 6:00PM \nSpeaker: Tom S. – Highlands County \nJames P. Austin Community Center\n315 Martin Luther King\, Jr. Blvd\nLake Wales\, FL 33853 \nPlease bring a dessert to raffle off. \nAll proceeds will benefit G.S.O.
URL:https://www.heartlandintergroup.org/event/the-gift-of-sobriety-gratitude-dinner/
LOCATION:James P. Austin Community Center\, 315 Martin Luther King\, Jr. Blvd\, Lake Wales\, FL\, 33853\, United States
CATEGORIES:Dinners,Speakers
ATTACH;FMTTYPE=image/jpeg:https://www.heartlandintergroup.org/wp-content/uploads/2025/09/Screenshot-2025-09-21-at-9.26.45-AM.jpg
END:VEVENT
END:VCALENDAR