BEGIN:VCALENDAR
VERSION:2.0
PRODID:-//Heartland Intergroup, Inc. - ECPv6.15.20//NONSGML v1.0//EN
CALSCALE:GREGORIAN
METHOD:PUBLISH
X-ORIGINAL-URL:https://www.heartlandintergroup.org
X-WR-CALDESC:Events for Heartland Intergroup, Inc.
REFRESH-INTERVAL;VALUE=DURATION:PT1H
X-Robots-Tag:noindex
X-PUBLISHED-TTL:PT1H
BEGIN:VTIMEZONE
TZID:America/New_York
BEGIN:DAYLIGHT
TZOFFSETFROM:-0500
TZOFFSETTO:-0400
TZNAME:EDT
DTSTART:20250309T070000
END:DAYLIGHT
BEGIN:STANDARD
TZOFFSETFROM:-0400
TZOFFSETTO:-0500
TZNAME:EST
DTSTART:20251102T060000
END:STANDARD
BEGIN:DAYLIGHT
TZOFFSETFROM:-0500
TZOFFSETTO:-0400
TZNAME:EDT
DTSTART:20260308T070000
END:DAYLIGHT
BEGIN:STANDARD
TZOFFSETFROM:-0400
TZOFFSETTO:-0500
TZNAME:EST
DTSTART:20261101T060000
END:STANDARD
BEGIN:DAYLIGHT
TZOFFSETFROM:-0500
TZOFFSETTO:-0400
TZNAME:EDT
DTSTART:20270314T070000
END:DAYLIGHT
BEGIN:STANDARD
TZOFFSETFROM:-0400
TZOFFSETTO:-0500
TZNAME:EST
DTSTART:20271107T060000
END:STANDARD
END:VTIMEZONE
BEGIN:VEVENT
DTSTART;TZID=America/New_York:20260307T170000
DTEND;TZID=America/New_York:20260307T200000
DTSTAMP:20260425T081810
CREATED:20260112T153533Z
LAST-MODIFIED:20260112T153533Z
UID:7144-1772902800-1772913600@www.heartlandintergroup.org
SUMMARY:A.A. Through the Ages
DESCRIPTION:Heartland Intergroup’s Annual Fundraising Dinner\nSaturday\, March 7\, 2026\nDonald Bronson Community Center\n124 Bronson Trail\nPolk City\, Florida 33868 \nTICKETS ARE $25.00*\n*Tickets will not be sold at door. \nAvailable at Heartland Intergroup & within our community. \nDoors open at 5:00 PM\nDinner at 6:00 PM\nNewcomer & Longtimer Speakers start at 7:00 PM \nDoor Prizes & 50/50 Raffle \nDon’t forget a dessert for the Dessert Auction!
URL:https://www.heartlandintergroup.org/event/a-a-through-the-ages/
LOCATION:Donald Bronson Community Center\, 124 Bronson Trail\, Polk City\, FL\, 33868\, United States
CATEGORIES:Dinners,Heartland Intergroup,Raffles,Speakers
ATTACH;FMTTYPE=image/jpeg:https://www.heartlandintergroup.org/wp-content/uploads/2026/01/IMG_3959.jpeg
ORGANIZER;CN="Heartland Intergroup":MAILTO:officemanager@heartlandintergroup.org
END:VEVENT
END:VCALENDAR