BEGIN:VCALENDAR
VERSION:2.0
PRODID:-//Heartland Intergroup, Inc. - ECPv6.15.20//NONSGML v1.0//EN
CALSCALE:GREGORIAN
METHOD:PUBLISH
X-ORIGINAL-URL:https://www.heartlandintergroup.org
X-WR-CALDESC:Events for Heartland Intergroup, Inc.
REFRESH-INTERVAL;VALUE=DURATION:PT1H
X-Robots-Tag:noindex
X-PUBLISHED-TTL:PT1H
BEGIN:VTIMEZONE
TZID:America/New_York
BEGIN:DAYLIGHT
TZOFFSETFROM:-0500
TZOFFSETTO:-0400
TZNAME:EDT
DTSTART:20240310T070000
END:DAYLIGHT
BEGIN:STANDARD
TZOFFSETFROM:-0400
TZOFFSETTO:-0500
TZNAME:EST
DTSTART:20241103T060000
END:STANDARD
BEGIN:DAYLIGHT
TZOFFSETFROM:-0500
TZOFFSETTO:-0400
TZNAME:EDT
DTSTART:20250309T070000
END:DAYLIGHT
BEGIN:STANDARD
TZOFFSETFROM:-0400
TZOFFSETTO:-0500
TZNAME:EST
DTSTART:20251102T060000
END:STANDARD
BEGIN:DAYLIGHT
TZOFFSETFROM:-0500
TZOFFSETTO:-0400
TZNAME:EDT
DTSTART:20260308T070000
END:DAYLIGHT
BEGIN:STANDARD
TZOFFSETFROM:-0400
TZOFFSETTO:-0500
TZNAME:EST
DTSTART:20261101T060000
END:STANDARD
END:VTIMEZONE
BEGIN:VEVENT
DTSTART;VALUE=DATE:20251205
DTEND;VALUE=DATE:20251208
DTSTAMP:20260425T111301
CREATED:20250626T181453Z
LAST-MODIFIED:20260111T215117Z
UID:1519-1764892800-1765151999@www.heartlandintergroup.org
SUMMARY:SSAASA 8
DESCRIPTION:Come join us for the 8th Southern States Alcoholics Anonymous Service Assembly Dec 5 – 7\, 2025 in Herndon\, VA. The Virginia Area was the birthplace of SSAASA and we are so excited to extend that Virginia hospitality and invite you back. \n \nThe SSAASA program is for GSRs\, DCMS\, Area Officers and Committee Members\, Intergroups and Central Office Representatives\, and anyone interested in or involved in AA service.  \nThe program consists of workshops\, panels\, round table discussions\, and lots of sharing sessions for members to share their experiences in General Service. All AA members are welcome to attend to learn more about our Third Legacy of Service.
URL:https://www.heartlandintergroup.org/event/ssaasa-8/
LOCATION:Hyatt Regency Dulles 2300 Dulles Corner Blvd\, Herndon\, VA\, United States\, 2300 Dulles Corner Blvd\, Herndon\, VA\, 20171\, United States
CATEGORIES:Assemblies
ATTACH;FMTTYPE=image/jpeg:https://www.heartlandintergroup.org/wp-content/uploads/2025/06/Save-the-Date-jpg.jpg
END:VEVENT
END:VCALENDAR