BEGIN:VCALENDAR
VERSION:2.0
PRODID:-//Heartland Intergroup, Inc. - ECPv6.15.20//NONSGML v1.0//EN
CALSCALE:GREGORIAN
METHOD:PUBLISH
X-WR-CALNAME:Heartland Intergroup, Inc.
X-ORIGINAL-URL:https://www.heartlandintergroup.org
X-WR-CALDESC:Events for Heartland Intergroup, Inc.
REFRESH-INTERVAL;VALUE=DURATION:PT1H
X-Robots-Tag:noindex
X-PUBLISHED-TTL:PT1H
BEGIN:VTIMEZONE
TZID:America/New_York
BEGIN:DAYLIGHT
TZOFFSETFROM:-0500
TZOFFSETTO:-0400
TZNAME:EDT
DTSTART:20250309T070000
END:DAYLIGHT
BEGIN:STANDARD
TZOFFSETFROM:-0400
TZOFFSETTO:-0500
TZNAME:EST
DTSTART:20251102T060000
END:STANDARD
BEGIN:DAYLIGHT
TZOFFSETFROM:-0500
TZOFFSETTO:-0400
TZNAME:EDT
DTSTART:20260308T070000
END:DAYLIGHT
BEGIN:STANDARD
TZOFFSETFROM:-0400
TZOFFSETTO:-0500
TZNAME:EST
DTSTART:20261101T060000
END:STANDARD
BEGIN:DAYLIGHT
TZOFFSETFROM:-0500
TZOFFSETTO:-0400
TZNAME:EDT
DTSTART:20270314T070000
END:DAYLIGHT
BEGIN:STANDARD
TZOFFSETFROM:-0400
TZOFFSETTO:-0500
TZNAME:EST
DTSTART:20271107T060000
END:STANDARD
END:VTIMEZONE
BEGIN:VEVENT
DTSTART;TZID=America/New_York:20260606T110000
DTEND;TZID=America/New_York:20260606T140000
DTSTAMP:20260423T095207
CREATED:20260331T122744Z
LAST-MODIFIED:20260422T161038Z
UID:8427-1780743600-1780754400@www.heartlandintergroup.org
SUMMARY:Founder’s Day
DESCRIPTION:Heartland Intergroup of A.A.\, Inc.\nFounder’s Day Picnic\nIt’s time to celebrate 91 years of AA – Founder’s Day\nWe look forward to seeing you there.\nJune 6th\, 2026\n11:00 am – 2 pm\nSerenity Ranch\n327 Eagle Lake Loop Rd W\nWinter Haven\, FL 33880\nIf you cannot find the ranch\, call 863-944-2020\n3-Ribs\, 1-Leg Quarter\, Potato Salad\, Baked Beans\, Cake\, Water\nBring your own chair-canopy\nNO SWIMMING – NO PLAYING WITH THE LIVESTOCK – NO DOGS\nTickets – $25.00\nTicket sales end May 23\, 2026\nPlease Note this is a Heartland Intergroup Fund Raiser\nPlease email: officemanager@heartlandintergroup.org\nOr Call 863-688-0211 if you have any questions.\nDownload Flyer
URL:https://www.heartlandintergroup.org/event/founders-day/
LOCATION:Serenity Ranch\, 327 Eagle Lake Loop Rd W\, Winter Haven\, FL\, 33880\, United States
CATEGORIES:Anniversary,Food,Heartland Intergroup,Speaker
ATTACH;FMTTYPE=application/pdf:https://www.heartlandintergroup.org/wp-content/uploads/2026/03/2026-Founders-Day-Picnic-Flyer.pdf
ORGANIZER;CN="Heartland Intergroup":MAILTO:officemanager@heartlandintergroup.org
END:VEVENT
END:VCALENDAR