BEGIN:VCALENDAR
VERSION:2.0
PRODID:-//Heartland Intergroup, Inc. - ECPv6.15.20//NONSGML v1.0//EN
CALSCALE:GREGORIAN
METHOD:PUBLISH
X-WR-CALNAME:Heartland Intergroup, Inc.
X-ORIGINAL-URL:https://www.heartlandintergroup.org
X-WR-CALDESC:Events for Heartland Intergroup, Inc.
REFRESH-INTERVAL;VALUE=DURATION:PT1H
X-Robots-Tag:noindex
X-PUBLISHED-TTL:PT1H
BEGIN:VTIMEZONE
TZID:America/New_York
BEGIN:DAYLIGHT
TZOFFSETFROM:-0500
TZOFFSETTO:-0400
TZNAME:EDT
DTSTART:20250309T070000
END:DAYLIGHT
BEGIN:STANDARD
TZOFFSETFROM:-0400
TZOFFSETTO:-0500
TZNAME:EST
DTSTART:20251102T060000
END:STANDARD
BEGIN:DAYLIGHT
TZOFFSETFROM:-0500
TZOFFSETTO:-0400
TZNAME:EDT
DTSTART:20260308T070000
END:DAYLIGHT
BEGIN:STANDARD
TZOFFSETFROM:-0400
TZOFFSETTO:-0500
TZNAME:EST
DTSTART:20261101T060000
END:STANDARD
BEGIN:DAYLIGHT
TZOFFSETFROM:-0500
TZOFFSETTO:-0400
TZNAME:EDT
DTSTART:20270314T070000
END:DAYLIGHT
BEGIN:STANDARD
TZOFFSETFROM:-0400
TZOFFSETTO:-0500
TZNAME:EST
DTSTART:20271107T060000
END:STANDARD
END:VTIMEZONE
BEGIN:VEVENT
DTSTART;TZID=America/New_York:20260329T160000
DTEND;TZID=America/New_York:20260329T190000
DTSTAMP:20260423T134835
CREATED:20260222T185633Z
LAST-MODIFIED:20260222T185921Z
UID:7908-1774800000-1774810800@www.heartlandintergroup.org
SUMMARY:Going to Any Length in Alturas - 9th Year Anniversary
DESCRIPTION:9th Year Anniversary\n4 pm: Doors Open\n5 pm: Roast Chicken with Potatoes and Green Beans\nbring a side dish or dessert to share\n6 pm: Speakers\, Jennifer and Mike \nALTURAS COMMUNITY CHURCH\n2745 Oak Dr.\, Alturas
URL:https://www.heartlandintergroup.org/event/going-to-any-length-in-alturas-9th-year-anniversary/
LOCATION:Alturas Community Church\, 2745 Oak Dr.\, Alturas\, FL\, 33820\, United States
CATEGORIES:Anniversary,Food,Speakers
ATTACH;FMTTYPE=image/webp:https://www.heartlandintergroup.org/wp-content/uploads/2026/02/Alturas-9th-Anniversary-Dinner.webp
END:VEVENT
END:VCALENDAR